BEGIN:VCALENDAR
VERSION:2.0
PRODID:-//FC Unter-/Oberrodach 1920 e.V. - ECPv6.15.20//NONSGML v1.0//EN
CALSCALE:GREGORIAN
METHOD:PUBLISH
X-WR-CALNAME:FC Unter-/Oberrodach 1920 e.V.
X-ORIGINAL-URL:https://fcuo1920.de
X-WR-CALDESC:Veranstaltungen für FC Unter-/Oberrodach 1920 e.V.
REFRESH-INTERVAL;VALUE=DURATION:PT1H
X-Robots-Tag:noindex
X-PUBLISHED-TTL:PT1H
BEGIN:VTIMEZONE
TZID:Europe/Berlin
BEGIN:DAYLIGHT
TZOFFSETFROM:+0100
TZOFFSETTO:+0200
TZNAME:CEST
DTSTART:20230326T010000
END:DAYLIGHT
BEGIN:STANDARD
TZOFFSETFROM:+0200
TZOFFSETTO:+0100
TZNAME:CET
DTSTART:20231029T010000
END:STANDARD
BEGIN:DAYLIGHT
TZOFFSETFROM:+0100
TZOFFSETTO:+0200
TZNAME:CEST
DTSTART:20240331T010000
END:DAYLIGHT
BEGIN:STANDARD
TZOFFSETFROM:+0200
TZOFFSETTO:+0100
TZNAME:CET
DTSTART:20241027T010000
END:STANDARD
BEGIN:DAYLIGHT
TZOFFSETFROM:+0100
TZOFFSETTO:+0200
TZNAME:CEST
DTSTART:20250330T010000
END:DAYLIGHT
BEGIN:STANDARD
TZOFFSETFROM:+0200
TZOFFSETTO:+0100
TZNAME:CET
DTSTART:20251026T010000
END:STANDARD
END:VTIMEZONE
BEGIN:VEVENT
DTSTART;TZID=Europe/Berlin:20240413T150000
DTEND;TZID=Europe/Berlin:20240413T170000
DTSTAMP:20260426T012557
CREATED:20240403T132102Z
LAST-MODIFIED:20240403T141639Z
UID:1567-1713020400-1713027600@fcuo1920.de
SUMMARY:Auswärtsspiel gegen SV Steinwiesen
DESCRIPTION:
URL:https://fcuo1920.de/event/auswaertsspiel-gegen-sv-steinwiesen/
LOCATION:Bayern
CATEGORIES:1. Mannschaft
END:VEVENT
BEGIN:VEVENT
DTSTART;TZID=Europe/Berlin:20240421T150000
DTEND;TZID=Europe/Berlin:20240421T150000
DTSTAMP:20260426T012557
CREATED:20240403T132226Z
LAST-MODIFIED:20240403T141452Z
UID:1569-1713711600-1713711600@fcuo1920.de
SUMMARY:Auswärtsspiel gegen SC Rennsteig
DESCRIPTION:
URL:https://fcuo1920.de/event/auswaertsspiel-gegen-sc-rennsteig/
LOCATION:Bayern
CATEGORIES:1. Mannschaft
END:VEVENT
END:VCALENDAR