BEGIN:VCALENDAR
VERSION:2.0
PRODID:-//FC Unter-/Oberrodach 1920 e.V. - ECPv6.15.20//NONSGML v1.0//EN
CALSCALE:GREGORIAN
METHOD:PUBLISH
X-WR-CALNAME:FC Unter-/Oberrodach 1920 e.V.
X-ORIGINAL-URL:https://fcuo1920.de
X-WR-CALDESC:Veranstaltungen für FC Unter-/Oberrodach 1920 e.V.
REFRESH-INTERVAL;VALUE=DURATION:PT1H
X-Robots-Tag:noindex
X-PUBLISHED-TTL:PT1H
BEGIN:VTIMEZONE
TZID:Europe/Berlin
BEGIN:DAYLIGHT
TZOFFSETFROM:+0100
TZOFFSETTO:+0200
TZNAME:CEST
DTSTART:20240331T010000
END:DAYLIGHT
BEGIN:STANDARD
TZOFFSETFROM:+0200
TZOFFSETTO:+0100
TZNAME:CET
DTSTART:20241027T010000
END:STANDARD
BEGIN:DAYLIGHT
TZOFFSETFROM:+0100
TZOFFSETTO:+0200
TZNAME:CEST
DTSTART:20250330T010000
END:DAYLIGHT
BEGIN:STANDARD
TZOFFSETFROM:+0200
TZOFFSETTO:+0100
TZNAME:CET
DTSTART:20251026T010000
END:STANDARD
BEGIN:DAYLIGHT
TZOFFSETFROM:+0100
TZOFFSETTO:+0200
TZNAME:CEST
DTSTART:20260329T010000
END:DAYLIGHT
BEGIN:STANDARD
TZOFFSETFROM:+0200
TZOFFSETTO:+0100
TZNAME:CET
DTSTART:20261025T010000
END:STANDARD
END:VTIMEZONE
BEGIN:VEVENT
DTSTART;TZID=Europe/Berlin:20250405T144500
DTEND;TZID=Europe/Berlin:20250405T161500
DTSTAMP:20260421T085843
CREATED:20250315T102840Z
LAST-MODIFIED:20250315T102840Z
UID:1830-1743864300-1743869700@fcuo1920.de
SUMMARY:C-Jugend vs. TSV Rossach
DESCRIPTION:
URL:https://fcuo1920.de/event/c-jugend-vs-tsv-rossach/
LOCATION:FC Unter-/Oberrodach\, Am Schwimmbad 2\, Marktrodach\, Bayern\, 96364\, Deutschland
CATEGORIES:C-Jugend
ORGANIZER;CN="FC Unter-/Oberrodach e.V.":MAILTO:info@fcuo1920.de
END:VEVENT
END:VCALENDAR